BEGIN:VCALENDAR
VERSION:2.0
PRODID:-//Orenda Education - ECPv6.15.20//NONSGML v1.0//EN
CALSCALE:GREGORIAN
METHOD:PUBLISH
X-WR-CALNAME:Orenda Education
X-ORIGINAL-URL:https://orendaed.org
X-WR-CALDESC:Events for Orenda Education
REFRESH-INTERVAL;VALUE=DURATION:PT1H
X-Robots-Tag:noindex
X-PUBLISHED-TTL:PT1H
BEGIN:VTIMEZONE
TZID:America/Los_Angeles
BEGIN:DAYLIGHT
TZOFFSETFROM:-0800
TZOFFSETTO:-0700
TZNAME:PDT
DTSTART:20200308T100000
END:DAYLIGHT
BEGIN:STANDARD
TZOFFSETFROM:-0700
TZOFFSETTO:-0800
TZNAME:PST
DTSTART:20201101T090000
END:STANDARD
BEGIN:DAYLIGHT
TZOFFSETFROM:-0800
TZOFFSETTO:-0700
TZNAME:PDT
DTSTART:20210314T100000
END:DAYLIGHT
BEGIN:STANDARD
TZOFFSETFROM:-0700
TZOFFSETTO:-0800
TZNAME:PST
DTSTART:20211107T090000
END:STANDARD
BEGIN:DAYLIGHT
TZOFFSETFROM:-0800
TZOFFSETTO:-0700
TZNAME:PDT
DTSTART:20220313T100000
END:DAYLIGHT
BEGIN:STANDARD
TZOFFSETFROM:-0700
TZOFFSETTO:-0800
TZNAME:PST
DTSTART:20221106T090000
END:STANDARD
BEGIN:DAYLIGHT
TZOFFSETFROM:-0800
TZOFFSETTO:-0700
TZNAME:PDT
DTSTART:20230312T100000
END:DAYLIGHT
BEGIN:STANDARD
TZOFFSETFROM:-0700
TZOFFSETTO:-0800
TZNAME:PST
DTSTART:20231105T090000
END:STANDARD
BEGIN:DAYLIGHT
TZOFFSETFROM:-0800
TZOFFSETTO:-0700
TZNAME:PDT
DTSTART:20240310T100000
END:DAYLIGHT
BEGIN:STANDARD
TZOFFSETFROM:-0700
TZOFFSETTO:-0800
TZNAME:PST
DTSTART:20241103T090000
END:STANDARD
BEGIN:DAYLIGHT
TZOFFSETFROM:-0800
TZOFFSETTO:-0700
TZNAME:PDT
DTSTART:20250309T100000
END:DAYLIGHT
BEGIN:STANDARD
TZOFFSETFROM:-0700
TZOFFSETTO:-0800
TZNAME:PST
DTSTART:20251102T090000
END:STANDARD
END:VTIMEZONE
BEGIN:VEVENT
DTSTART;TZID=America/Los_Angeles:20240309T080000
DTEND;TZID=America/Los_Angeles:20240309T100000
DTSTAMP:20260423T135309
CREATED:20240304T024357Z
LAST-MODIFIED:20240304T024357Z
UID:10000057-1709971200-1709978400@orendaed.org
SUMMARY:CALSA Women's Leadership Network - Leadership Symposium
DESCRIPTION:Are you ready to be inspired\, empowered\, and equipped to lead? Join us for the upcoming CALSA Women’s Leadership Network Symposium\, where we’re dedicated to amplifying the voices and advancing the careers of women in educational leadership positions throughout California. \nKicking off Saturday’s riveting session bright and early at 8 am is none other than Robin Avelar La Salle\, the Founder and President of Orenda Education. With years of experience and a trailblazing spirit\, Robin has been at the forefront of advocating for educational equity and championing the rights of underserved students. Her remarkable journey has inspired countless individuals and serves as a beacon of hope for aspiring leaders everywhere. \nDuring the symposium\, Robin will share her insights\, wisdom\, and strategies for navigating the complexities of educational leadership\, particularly for women and minorities. Her keynote address promises to ignite passion\, spark dialogue\, and catalyze action as we strive to create a more inclusive and equitable educational landscape. \n  \nThe CALSA Women’s Leadership Network Symposium offers a platform for networking\, collaboration\, and professional development\, featuring a lineup of esteemed speakers\, interactive workshops\, and thought-provoking discussions. Whether you’re a seasoned leader or just starting on your journey\, this event is designed to provide you with the tools\, resources\, and support you need to thrive in your role. \nSo\, mark your calendars and come join us for a day of inspiration\, empowerment\, and community. Together\, let’s continue to shatter glass ceilings\, challenge the status quo\, and build a brighter future for education in California. \nDon’t miss out on this opportunity to be part of a movement that’s transforming the face of educational leadership. Register now and take the first step towards realizing your full potential as a leader in education. We can’t wait to see you there!
URL:https://orendaed.org/event/calsa-womens-leadership-network-leadership-symposium/
END:VEVENT
BEGIN:VEVENT
DTSTART;TZID=America/Los_Angeles:20240202T110000
DTEND;TZID=America/Los_Angeles:20240202T120000
DTSTAMP:20260423T135309
CREATED:20240201T035211Z
LAST-MODIFIED:20240201T035211Z
UID:10000054-1706871600-1706875200@orendaed.org
SUMMARY:CALSA Annual Conference - Focus On Results 2024
DESCRIPTION:Is Your Data System Substantive or Symbolic? One of the most prevalent and insidious equity traps that districts fall into is that of symbolic data systems. Orenda Education will share its time-tested\, research-based plan for achieving alignment and steep growth in graduation and college-readiness rates. \nSession led by Orenda’s own Sarah Gonzales.
URL:https://orendaed.org/event/calsa-annual-conference-focus-on-results-2024/
LOCATION:Signia by Hilton San Jose\, 170 S Market St\, San Jose\, CA\, 95113\, United States
END:VEVENT
BEGIN:VEVENT
DTSTART;TZID=America/Los_Angeles:20220319T130000
DTEND;TZID=America/Los_Angeles:20220319T140000
DTSTAMP:20260423T135309
CREATED:20220218T065830Z
LAST-MODIFIED:20220331T165014Z
UID:10000046-1647694800-1647698400@orendaed.org
SUMMARY:CALSA - Women's Wellness Symposium\, "I am enough!"
DESCRIPTION:Shattering Inequities: Pushing Our Thinking and Actions to Meet the Moment.
URL:https://orendaed.org/event/calsa-womens-wellness-symposium-i-am-enough/
LOCATION:The Westin South Coast Plaza\, 686 Anton Blvd.\, Costa Mesa\, 92626\, United States
END:VEVENT
BEGIN:VEVENT
DTSTART;TZID=America/Los_Angeles:20220129T140000
DTEND;TZID=America/Los_Angeles:20220129T150000
DTSTAMP:20260423T135309
CREATED:20220120T080842Z
LAST-MODIFIED:20220331T165137Z
UID:10000033-1643464800-1643468400@orendaed.org
SUMMARY:CALSA - Focus on Results
DESCRIPTION:Round Table Q & A with members of the Orenda Education team
URL:https://orendaed.org/event/calsa-focus-on-results-3/
LOCATION:Omni San Diego\, 675 L St.\, San Diego\, CA\, 92101\, United States
END:VEVENT
BEGIN:VEVENT
DTSTART;TZID=America/Los_Angeles:20220129T110000
DTEND;TZID=America/Los_Angeles:20220129T120000
DTSTAMP:20260423T135309
CREATED:20220120T080735Z
LAST-MODIFIED:20220331T165213Z
UID:10000034-1643454000-1643457600@orendaed.org
SUMMARY:CALSA - Focus on Results
DESCRIPTION:Breakout session with members of the Orenda Education team.
URL:https://orendaed.org/event/calsa-focus-on-results-2/
LOCATION:Omni San Diego\, 675 L St.\, San Diego\, CA\, 92101\, United States
END:VEVENT
BEGIN:VEVENT
DTSTART;TZID=America/Los_Angeles:20220128T043000
DTEND;TZID=America/Los_Angeles:20220128T053000
DTSTAMP:20260423T135309
CREATED:20220120T080634Z
LAST-MODIFIED:20220120T081259Z
UID:10000035-1643344200-1643347800@orendaed.org
SUMMARY:CALSA - Focus on Results
DESCRIPTION:Panel discussion with Dr. Robin Avelar La Salle.
URL:https://orendaed.org/event/calsa-focus-on-results/
LOCATION:Omni San Diego\, 675 L St.\, San Diego\, CA\, 92101\, United States
END:VEVENT
BEGIN:VEVENT
DTSTART;TZID=America/Los_Angeles:20211116T110000
DTEND;TZID=America/Los_Angeles:20211116T130000
DTSTAMP:20260423T135309
CREATED:20211103T225426Z
LAST-MODIFIED:20220331T165306Z
UID:10000037-1637060400-1637067600@orendaed.org
SUMMARY:Pushing our Thinking and Actions to Meet the Moment
DESCRIPTION:Join Dr. Robin Avelar La Salle for a presentation of “Pushing our Thinking and Actions to Meet the Moment” then a panel discussion with Paul Gothold (SDCOE)\, Sandy Thorstenson\, Dr. Adam Clark (Mt. Diablo)\, and John Ramirez (Stockton). \nThis unique session will provide leaders the latest research and best practice in three under-explored areas: (a) most common systemic choke-points to equity\, (b) back-casting to accelerate student outcomes\, and (c) the power of leadership columns to shatter inequitable systems. Participants will develop understanding of the power of these ideas in action through simulations\, self-assessment exercises and draft planning. Come ready to be edified\, amused and inspired!
URL:https://orendaed.org/event/pushing-our-thinking-and-actions-to-meet-the-moment/
LOCATION:Virtual
END:VEVENT
END:VCALENDAR